BEGIN:VCALENDAR
VERSION:2.0
PRODID:-//NFP Zentrum Leipzig - ECPv6.2.6//NONSGML v1.0//EN
CALSCALE:GREGORIAN
METHOD:PUBLISH
X-ORIGINAL-URL:https://www.zentrum-sexuelle-bildung.de
X-WR-CALDESC:Veranstaltungen für NFP Zentrum Leipzig
REFRESH-INTERVAL;VALUE=DURATION:PT1H
X-Robots-Tag:noindex
X-PUBLISHED-TTL:PT1H
BEGIN:VTIMEZONE
TZID:Europe/Berlin
BEGIN:DAYLIGHT
TZOFFSETFROM:+0100
TZOFFSETTO:+0200
TZNAME:CEST
DTSTART:20220327T010000
END:DAYLIGHT
BEGIN:STANDARD
TZOFFSETFROM:+0200
TZOFFSETTO:+0100
TZNAME:CET
DTSTART:20221030T010000
END:STANDARD
END:VTIMEZONE
BEGIN:VEVENT
DTSTART;TZID=Europe/Berlin:20220831T090000
DTEND;TZID=Europe/Berlin:20220831T173000
DTSTAMP:20260420T130426
CREATED:20220303T112244Z
LAST-MODIFIED:20220518T065428Z
UID:1779-1661936400-1661967000@www.zentrum-sexuelle-bildung.de
SUMMARY:Ausbildung zur Kursleiterin „Eine Reise durch den Zyklus der Frau"
DESCRIPTION:Der Workshop widmet sich mit anschaulichen Materialien dem natürlichen Zyklusgeschehen\, dem faszinierenden Zusammenspiel der weiblichen Hormone sowie der Wirkweise hormoneller Verhütung. Dabei eignet sich besonders das Bodenbild für die NFP-Arbeit nach Sensiplan. \nLiebe Interessentinnen\,  \nunser Ausbildungsseminar richtet sich an pädagogische Fachkräfte\, NFP-Beraterinnen nach Sensiplan\, NER Beraterinnen\, Heilpraktikerinnen\, Therapeutinnen und Ärztinnen.  \nVoraussetzungen  \nInteressentinnen sollten einen positiven Bezug zu ihrem Körper und ihrem natürlichen Zyklusgeschehen haben. Weiterhin werden Kenntnisse über Ablauf und Körperzeichen im natürlichen Zyklus vorausgesetzt. Aufgrund der Einbeziehung von Musik\, Bildern und Bewegung sollten die Interessentinnen auch Freude an eigenen kreativen Ausdrucksweisen mitbringen\, um diese im Rahmen des Workshops überzeugend vermitteln und weitergeben zu können.  \nAusbildungsinhalte  \n\nFrausein und Fruchtbarkeit im Fluss des Lebens \nVermittlung des Zyklusgeschehens mit allen Sinnen \nWirkweise der hormonellen Verhütungsmittel \n\nMethoden  \n\nArbeit mit Bodenbildern und kreativen Materialien \nKlangreise \nKörperübungen mit Musik \nEinzel- und Gruppenarbeit \n\nZertifikat  \nJede Teilnehmerin erhält am Ende des Ausbildungsseminars das Konzeptmanual sowie ein Zertifikat\, das sie zur selbstständigen Durchführung des Workshops berechtigt.  \nSeminarablauf  Mittwoch\, 31. August 2022  \n\n9.00 Uhr Begrüßung Praktische Durchführung des Workshops\, Teil 1 \ngemeinsames Mittagessen \nPraktische Durchführung des Workshops\, Teil 2 \nKaffeepause \nFortsetzung Teil 2 \n17.30 Uhr Ende der Veranstaltung \n\nReferentinnen  \n\nAngelika Schmitt\, Dipl. Soz.päd. (FH)\, Fachbereich NFP im Erzbistum Bamberg und\nStephanie Lahusen\, Dipl. Musiktherapeutin (FH) und Heilpraktikerin (Psychotherapie) \n\nInformationen und Anmeldung\nEine Reise durch den Zyklus der Frau.PDF \nAnmeldungZyklusreise2022.DOCX
URL:https://www.zentrum-sexuelle-bildung.de/veranstaltung/save-the-date-ausbildung-zyklusreise/
LOCATION:Dresden\, Magdeburger Straße 33\, Dresden\, 01067\, Deutschland
CATEGORIES:Ausbildungen
ATTACH;FMTTYPE=image/jpeg:https://www.zentrum-sexuelle-bildung.de/wp-content/uploads/2022/03/IMG-20220517-WA0006.jpg
END:VEVENT
END:VCALENDAR