BEGIN:VCALENDAR
VERSION:2.0
PRODID:-//NFP Zentrum Leipzig - ECPv6.2.6//NONSGML v1.0//EN
CALSCALE:GREGORIAN
METHOD:PUBLISH
X-WR-CALNAME:NFP Zentrum Leipzig
X-ORIGINAL-URL:https://www.zentrum-sexuelle-bildung.de
X-WR-CALDESC:Veranstaltungen für NFP Zentrum Leipzig
REFRESH-INTERVAL;VALUE=DURATION:PT1H
X-Robots-Tag:noindex
X-PUBLISHED-TTL:PT1H
BEGIN:VTIMEZONE
TZID:Europe/Berlin
BEGIN:DAYLIGHT
TZOFFSETFROM:+0100
TZOFFSETTO:+0200
TZNAME:CEST
DTSTART:20220327T010000
END:DAYLIGHT
BEGIN:STANDARD
TZOFFSETFROM:+0200
TZOFFSETTO:+0100
TZNAME:CET
DTSTART:20221030T010000
END:STANDARD
END:VTIMEZONE
BEGIN:VEVENT
DTSTART;TZID=Europe/Berlin:20221021T100000
DTEND;TZID=Europe/Berlin:20221021T160000
DTSTAMP:20260420T111739
CREATED:20220307T133812Z
LAST-MODIFIED:20220912T103917Z
UID:1787-1666346400-1666368000@www.zentrum-sexuelle-bildung.de
SUMMARY:Online-Fachfortbildung KörperWunderWerkstatt
DESCRIPTION:Ergänzend zum Sexualkundeunterricht können Mädchen und Jungen altersgerecht und ohne das Gefühl von Peinlichkeit in der KörperWunderWerkstatt erleben\, was sich in der Pubertät verändert. Und sie ermöglicht einen positiven Zugang zu Körper und Fruchtbarkeit. \nAlle Infos zur KWW
URL:https://www.zentrum-sexuelle-bildung.de/veranstaltung/online-fachfortbildung-kww/
LOCATION:Online
CATEGORIES:Ausbildungen
ATTACH;FMTTYPE=image/jpeg:https://www.zentrum-sexuelle-bildung.de/wp-content/uploads/2021/09/Foto-KoerperWunderWerkstatt-zur-Veroeffentlichung-vom-MFM-Verein.jpg
END:VEVENT
END:VCALENDAR