BEGIN:VCALENDAR
VERSION:2.0
PRODID:-//NFP Zentrum Leipzig - ECPv6.2.6//NONSGML v1.0//EN
CALSCALE:GREGORIAN
METHOD:PUBLISH
X-ORIGINAL-URL:https://www.zentrum-sexuelle-bildung.de
X-WR-CALDESC:Veranstaltungen für NFP Zentrum Leipzig
REFRESH-INTERVAL;VALUE=DURATION:PT1H
X-Robots-Tag:noindex
X-PUBLISHED-TTL:PT1H
BEGIN:VTIMEZONE
TZID:Europe/Berlin
BEGIN:DAYLIGHT
TZOFFSETFROM:+0100
TZOFFSETTO:+0200
TZNAME:CEST
DTSTART:20220327T010000
END:DAYLIGHT
BEGIN:STANDARD
TZOFFSETFROM:+0200
TZOFFSETTO:+0100
TZNAME:CET
DTSTART:20221030T010000
END:STANDARD
END:VTIMEZONE
BEGIN:VEVENT
DTSTART;TZID=Europe/Berlin:20221008T090000
DTEND;TZID=Europe/Berlin:20221008T090000
DTSTAMP:20260420T112052
CREATED:20220307T133656Z
LAST-MODIFIED:20220307T134206Z
UID:1785-1665219600-1665219600@www.zentrum-sexuelle-bildung.de
SUMMARY:Online-Fachfortbildung Zyklusshowreferentin
DESCRIPTION:Online-Fachfortbildung Zyklusshowreferentin \n(Alternativ zu 23.09.)
URL:https://www.zentrum-sexuelle-bildung.de/veranstaltung/online-fachfortbildung-zyklusshowreferentin-2/
LOCATION:Online
CATEGORIES:Ausbildungen,Für Frauen
ATTACH;FMTTYPE=image/jpeg:https://www.zentrum-sexuelle-bildung.de/wp-content/uploads/2021/12/Zyklusshowpressefoto1.jpg
END:VEVENT
END:VCALENDAR